BEGIN:VCALENDAR
VERSION:2.0
PRODID:-//Hubbard Elementary School - ECPv6.15.20//NONSGML v1.0//EN
CALSCALE:GREGORIAN
METHOD:PUBLISH
X-WR-CALNAME:Hubbard Elementary School
X-ORIGINAL-URL:https://hubbard.nbed.ca
X-WR-CALDESC:Events for Hubbard Elementary School
REFRESH-INTERVAL;VALUE=DURATION:PT1H
X-Robots-Tag:noindex
X-PUBLISHED-TTL:PT1H
BEGIN:VTIMEZONE
TZID:America/Moncton
BEGIN:DAYLIGHT
TZOFFSETFROM:-0400
TZOFFSETTO:-0300
TZNAME:ADT
DTSTART:20230312T060000
END:DAYLIGHT
BEGIN:STANDARD
TZOFFSETFROM:-0300
TZOFFSETTO:-0400
TZNAME:AST
DTSTART:20231105T050000
END:STANDARD
BEGIN:DAYLIGHT
TZOFFSETFROM:-0400
TZOFFSETTO:-0300
TZNAME:ADT
DTSTART:20240310T060000
END:DAYLIGHT
BEGIN:STANDARD
TZOFFSETFROM:-0300
TZOFFSETTO:-0400
TZNAME:AST
DTSTART:20241103T050000
END:STANDARD
BEGIN:DAYLIGHT
TZOFFSETFROM:-0400
TZOFFSETTO:-0300
TZNAME:ADT
DTSTART:20250309T060000
END:DAYLIGHT
BEGIN:STANDARD
TZOFFSETFROM:-0300
TZOFFSETTO:-0400
TZNAME:AST
DTSTART:20251102T050000
END:STANDARD
END:VTIMEZONE
BEGIN:VEVENT
DTSTART;TZID=America/Moncton:20241106T113000
DTEND;TZID=America/Moncton:20241106T113000
DTSTAMP:20260419T175137
CREATED:20241029T170347Z
LAST-MODIFIED:20241029T170349Z
UID:10000284-1730892600-1730892600@hubbard.nbed.ca
SUMMARY:Remembrance Day Ceremony
DESCRIPTION:
URL:https://hubbard.nbed.ca/calendar/remembrance-day-ceremony/
END:VEVENT
BEGIN:VEVENT
DTSTART;TZID=America/Moncton:20241119T080000
DTEND;TZID=America/Moncton:20241119T170000
DTSTAMP:20260419T175137
CREATED:20241029T170017Z
LAST-MODIFIED:20241029T170019Z
UID:10000283-1732003200-1732035600@hubbard.nbed.ca
SUMMARY:Picture Retake Day
DESCRIPTION:
URL:https://hubbard.nbed.ca/calendar/picture-retake-day/
END:VEVENT
END:VCALENDAR