BEGIN:VCALENDAR
VERSION:2.0
PRODID:-//Hubbard Elementary School - ECPv6.15.20//NONSGML v1.0//EN
CALSCALE:GREGORIAN
METHOD:PUBLISH
X-ORIGINAL-URL:https://hubbard.nbed.ca
X-WR-CALDESC:Events for Hubbard Elementary School
REFRESH-INTERVAL;VALUE=DURATION:PT1H
X-Robots-Tag:noindex
X-PUBLISHED-TTL:PT1H
BEGIN:VTIMEZONE
TZID:America/Moncton
BEGIN:DAYLIGHT
TZOFFSETFROM:-0400
TZOFFSETTO:-0300
TZNAME:ADT
DTSTART:20220313T060000
END:DAYLIGHT
BEGIN:STANDARD
TZOFFSETFROM:-0300
TZOFFSETTO:-0400
TZNAME:AST
DTSTART:20221106T050000
END:STANDARD
BEGIN:DAYLIGHT
TZOFFSETFROM:-0400
TZOFFSETTO:-0300
TZNAME:ADT
DTSTART:20230312T060000
END:DAYLIGHT
BEGIN:STANDARD
TZOFFSETFROM:-0300
TZOFFSETTO:-0400
TZNAME:AST
DTSTART:20231105T050000
END:STANDARD
BEGIN:DAYLIGHT
TZOFFSETFROM:-0400
TZOFFSETTO:-0300
TZNAME:ADT
DTSTART:20240310T060000
END:DAYLIGHT
BEGIN:STANDARD
TZOFFSETFROM:-0300
TZOFFSETTO:-0400
TZNAME:AST
DTSTART:20241103T050000
END:STANDARD
END:VTIMEZONE
BEGIN:VEVENT
DTSTART;TZID=America/Moncton:20231002T000000
DTEND;TZID=America/Moncton:20231002T235900
DTSTAMP:20260419T225539
CREATED:20230616T121613Z
LAST-MODIFIED:20230621T134424Z
UID:10000150-1696204800-1696291140@hubbard.nbed.ca
SUMMARY:No School - National Day for Truth and Reconciliation
DESCRIPTION:Schools closed.
URL:https://hubbard.nbed.ca/calendar/national-day-for-truth-and-reconciliation/
CATEGORIES:Current Students
END:VEVENT
BEGIN:VEVENT
DTSTART;TZID=America/Moncton:20231003T080000
DTEND;TZID=America/Moncton:20231003T120000
DTSTAMP:20260419T225539
CREATED:20230906T142214Z
LAST-MODIFIED:20230906T144747Z
UID:10000180-1696320000-1696334400@hubbard.nbed.ca
SUMMARY:Picture Day
DESCRIPTION:
URL:https://hubbard.nbed.ca/calendar/497/
CATEGORIES:Academics,Current Students
END:VEVENT
BEGIN:VEVENT
DTSTART;TZID=America/Moncton:20231004T083000
DTEND;TZID=America/Moncton:20231004T140000
DTSTAMP:20260419T225539
CREATED:20230929T173902Z
LAST-MODIFIED:20230929T173903Z
UID:10000219-1696408200-1696428000@hubbard.nbed.ca
SUMMARY:Grade 4 Kingslanding trip
DESCRIPTION:
URL:https://hubbard.nbed.ca/calendar/grade-4-kingslanding-trip/
CATEGORIES:Academics,Current Students,Extracurricular,Food,Transportation
END:VEVENT
BEGIN:VEVENT
DTSTART;TZID=America/Moncton:20231004T132000
DTEND;TZID=America/Moncton:20231004T143000
DTSTAMP:20260419T225539
CREATED:20230906T142437Z
LAST-MODIFIED:20231004T130053Z
UID:10000182-1696425600-1696429800@hubbard.nbed.ca
SUMMARY:Grade 3 & 5 School Cross Country
DESCRIPTION:Oromocto Wetlands
URL:https://hubbard.nbed.ca/calendar/school-cross-country/
CATEGORIES:Academics,Athletics,Current Students
END:VEVENT
BEGIN:VEVENT
DTSTART;TZID=America/Moncton:20231005T033000
DTEND;TZID=America/Moncton:20231005T173000
DTSTAMP:20260419T225539
CREATED:20230906T142402Z
LAST-MODIFIED:20230906T142403Z
UID:10000181-1696476600-1696527000@hubbard.nbed.ca
SUMMARY:Hubbard Movie Night - Bad Guys
DESCRIPTION:Payment online only.
URL:https://hubbard.nbed.ca/calendar/hubbard-movie-night-bad-guys/
CATEGORIES:Current Students,Extracurricular
END:VEVENT
BEGIN:VEVENT
DTSTART;TZID=America/Moncton:20231006T080000
DTEND;TZID=America/Moncton:20231006T120000
DTSTAMP:20260419T225539
CREATED:20230906T142612Z
LAST-MODIFIED:20230906T142613Z
UID:10000183-1696579200-1696593600@hubbard.nbed.ca
SUMMARY:Cluster Groups
DESCRIPTION:
URL:https://hubbard.nbed.ca/calendar/cluster-groups/
CATEGORIES:Academics,Current Students
END:VEVENT
BEGIN:VEVENT
DTSTART;TZID=America/Moncton:20231009T000000
DTEND;TZID=America/Moncton:20231009T235900
DTSTAMP:20260419T225539
CREATED:20230616T121706Z
LAST-MODIFIED:20230621T134526Z
UID:10000151-1696809600-1696895940@hubbard.nbed.ca
SUMMARY:No School - Thanksgiving Day
DESCRIPTION:Schools closed.
URL:https://hubbard.nbed.ca/calendar/thanksgiving-day-2/
CATEGORIES:Current Students
END:VEVENT
BEGIN:VEVENT
DTSTART;TZID=America/Moncton:20231010T083000
DTEND;TZID=America/Moncton:20231010T133000
DTSTAMP:20260419T225539
CREATED:20231004T123751Z
LAST-MODIFIED:20231004T123752Z
UID:10000220-1696926600-1696944600@hubbard.nbed.ca
SUMMARY:Grade 4 Geological Field Trip
DESCRIPTION:
URL:https://hubbard.nbed.ca/calendar/grade-4-geological-field-trip/
CATEGORIES:Academics,Current Students,Transportation
END:VEVENT
BEGIN:VEVENT
DTSTART;TZID=America/Moncton:20231013T080000
DTEND;TZID=America/Moncton:20231013T170000
DTSTAMP:20260419T225539
CREATED:20230621T134121Z
LAST-MODIFIED:20230621T134122Z
UID:10000094-1697184000-1697216400@hubbard.nbed.ca
SUMMARY:No School - School Improvement Planning Day
DESCRIPTION:
URL:https://hubbard.nbed.ca/calendar/no-school-school-improvement-planning-day/
CATEGORIES:Academics,Current Students
END:VEVENT
BEGIN:VEVENT
DTSTART;TZID=America/Moncton:20231013T080000
DTEND;TZID=America/Moncton:20231013T170000
DTSTAMP:20260419T225539
CREATED:20231005T112930Z
LAST-MODIFIED:20231005T175547Z
UID:10000222-1697184000-1697216400@hubbard.nbed.ca
SUMMARY:Harvey Picture Order's Due
DESCRIPTION:
URL:https://hubbard.nbed.ca/calendar/harvey-picture-orders-due/
CATEGORIES:Current Students
END:VEVENT
BEGIN:VEVENT
DTSTART;TZID=America/Moncton:20231017T083000
DTEND;TZID=America/Moncton:20231017T133000
DTSTAMP:20260419T225539
CREATED:20231004T123916Z
LAST-MODIFIED:20231004T123916Z
UID:10000221-1697531400-1697549400@hubbard.nbed.ca
SUMMARY:Grade 4 Explore Fredericton Field Trip
DESCRIPTION:
URL:https://hubbard.nbed.ca/calendar/grade-4-explore-fredericton-field-trip/
CATEGORIES:Academics,Current Students,Transportation
END:VEVENT
BEGIN:VEVENT
DTSTART;TZID=America/Moncton:20231019T080000
DTEND;TZID=America/Moncton:20231019T170000
DTSTAMP:20260419T225539
CREATED:20230915T111644Z
LAST-MODIFIED:20230915T111645Z
UID:10000204-1697702400-1697734800@hubbard.nbed.ca
SUMMARY:Fairtale/Make Believe Day
DESCRIPTION:
URL:https://hubbard.nbed.ca/calendar/fairtale-make-believe-day/
END:VEVENT
BEGIN:VEVENT
DTSTART;TZID=America/Moncton:20231020T080000
DTEND;TZID=America/Moncton:20231020T170000
DTSTAMP:20260419T225539
CREATED:20230906T143222Z
LAST-MODIFIED:20230906T143223Z
UID:10000184-1697788800-1697821200@hubbard.nbed.ca
SUMMARY:Cluster Groups
DESCRIPTION:
URL:https://hubbard.nbed.ca/calendar/cluster-groups-2/
CATEGORIES:Academics,Current Students
END:VEVENT
BEGIN:VEVENT
DTSTART;TZID=America/Moncton:20231020T131500
DTEND;TZID=America/Moncton:20231020T150000
DTSTAMP:20260419T225539
CREATED:20230906T143334Z
LAST-MODIFIED:20231012T134221Z
UID:10000186-1697807700-1697814000@hubbard.nbed.ca
SUMMARY:OEC District Cross Country
DESCRIPTION:
URL:https://hubbard.nbed.ca/calendar/oec-district-cross-country/
CATEGORIES:Athletics,Current Students
END:VEVENT
BEGIN:VEVENT
DTSTART;TZID=America/Moncton:20231025T080000
DTEND;TZID=America/Moncton:20231031T170000
DTSTAMP:20260419T225539
CREATED:20231025T125445Z
LAST-MODIFIED:20231025T125446Z
UID:10000225-1698220800-1698771600@hubbard.nbed.ca
SUMMARY:.25 Candy Guess for students
DESCRIPTION:
URL:https://hubbard.nbed.ca/calendar/25-candy-guess-for-students/
CATEGORIES:Current Students,Extracurricular
END:VEVENT
BEGIN:VEVENT
DTSTART;TZID=America/Moncton:20231026T180000
DTEND;TZID=America/Moncton:20231026T193000
DTSTAMP:20260419T225539
CREATED:20231010T111554Z
LAST-MODIFIED:20231010T111555Z
UID:10000224-1698343200-1698348600@hubbard.nbed.ca
SUMMARY:Halloween Fun Night!
DESCRIPTION:Children must be accompanied by an adult.
URL:https://hubbard.nbed.ca/calendar/halloween-fun-night/
CATEGORIES:Current Students,Extracurricular,Food
END:VEVENT
BEGIN:VEVENT
DTSTART;TZID=America/Moncton:20231027T080000
DTEND;TZID=America/Moncton:20231027T120000
DTSTAMP:20260419T225539
CREATED:20230906T143247Z
LAST-MODIFIED:20230906T143247Z
UID:10000185-1698393600-1698408000@hubbard.nbed.ca
SUMMARY:Cluster Groups
DESCRIPTION:
URL:https://hubbard.nbed.ca/calendar/cluster-groups-3/
CATEGORIES:Academics,Current Students
END:VEVENT
BEGIN:VEVENT
DTSTART;TZID=America/Moncton:20231031T080000
DTEND;TZID=America/Moncton:20231031T170000
DTSTAMP:20260419T225539
CREATED:20230915T111938Z
LAST-MODIFIED:20230915T111938Z
UID:10000207-1698739200-1698771600@hubbard.nbed.ca
SUMMARY:Black & Orange Day
DESCRIPTION:
URL:https://hubbard.nbed.ca/calendar/black-orange-day/
END:VEVENT
END:VCALENDAR