BEGIN:VCALENDAR
VERSION:2.0
PRODID:-//Hubbard Elementary School - ECPv6.15.20//NONSGML v1.0//EN
CALSCALE:GREGORIAN
METHOD:PUBLISH
X-WR-CALNAME:Hubbard Elementary School
X-ORIGINAL-URL:https://hubbard.nbed.ca
X-WR-CALDESC:Events for Hubbard Elementary School
REFRESH-INTERVAL;VALUE=DURATION:PT1H
X-Robots-Tag:noindex
X-PUBLISHED-TTL:PT1H
BEGIN:VTIMEZONE
TZID:America/Moncton
BEGIN:DAYLIGHT
TZOFFSETFROM:-0400
TZOFFSETTO:-0300
TZNAME:ADT
DTSTART:20220313T060000
END:DAYLIGHT
BEGIN:STANDARD
TZOFFSETFROM:-0300
TZOFFSETTO:-0400
TZNAME:AST
DTSTART:20221106T050000
END:STANDARD
BEGIN:DAYLIGHT
TZOFFSETFROM:-0400
TZOFFSETTO:-0300
TZNAME:ADT
DTSTART:20230312T060000
END:DAYLIGHT
BEGIN:STANDARD
TZOFFSETFROM:-0300
TZOFFSETTO:-0400
TZNAME:AST
DTSTART:20231105T050000
END:STANDARD
BEGIN:DAYLIGHT
TZOFFSETFROM:-0400
TZOFFSETTO:-0300
TZNAME:ADT
DTSTART:20240310T060000
END:DAYLIGHT
BEGIN:STANDARD
TZOFFSETFROM:-0300
TZOFFSETTO:-0400
TZNAME:AST
DTSTART:20241103T050000
END:STANDARD
END:VTIMEZONE
BEGIN:VEVENT
DTSTART;TZID=America/Moncton:20230929T110000
DTEND;TZID=America/Moncton:20230929T233000
DTSTAMP:20260419T120224
CREATED:20230906T141656Z
LAST-MODIFIED:20230906T141657Z
UID:10000177-1695985200-1696030200@hubbard.nbed.ca
SUMMARY:Terry Fox Walk
DESCRIPTION:
URL:https://hubbard.nbed.ca/calendar/terry-fox-walk/
CATEGORIES:Athletics,Current Students
END:VEVENT
BEGIN:VEVENT
DTSTART;TZID=America/Moncton:20230929T080000
DTEND;TZID=America/Moncton:20230929T170000
DTSTAMP:20260419T120224
CREATED:20230921T184912Z
LAST-MODIFIED:20230921T184912Z
UID:10000218-1695974400-1696006800@hubbard.nbed.ca
SUMMARY:Friday Hat Day
DESCRIPTION:Please send in $1 or a nonperishable food item for the Oromocto Food Bank.
URL:https://hubbard.nbed.ca/calendar/friday-hat-day/
CATEGORIES:Current Students,Extracurricular,Food
END:VEVENT
BEGIN:VEVENT
DTSTART;TZID=America/Moncton:20230928T080000
DTEND;TZID=America/Moncton:20230928T170000
DTSTAMP:20260419T120224
CREATED:20230906T141847Z
LAST-MODIFIED:20230906T141848Z
UID:10000179-1695888000-1695920400@hubbard.nbed.ca
SUMMARY:Grade 4 & 5 Soc Hop
DESCRIPTION:
URL:https://hubbard.nbed.ca/calendar/grade-4-5-soc-hop/
CATEGORIES:Current Students,Extracurricular
END:VEVENT
BEGIN:VEVENT
DTSTART;TZID=America/Moncton:20230927T080000
DTEND;TZID=America/Moncton:20230927T170000
DTSTAMP:20260419T120224
CREATED:20230915T111543Z
LAST-MODIFIED:20230915T113235Z
UID:10000203-1695801600-1695834000@hubbard.nbed.ca
SUMMARY:Orange Shirt Day
DESCRIPTION:
URL:https://hubbard.nbed.ca/calendar/orange-shirt-day/
END:VEVENT
BEGIN:VEVENT
DTSTART;TZID=America/Moncton:20230926T080000
DTEND;TZID=America/Moncton:20230926T170000
DTSTAMP:20260419T120224
CREATED:20230906T141803Z
LAST-MODIFIED:20230906T141804Z
UID:10000178-1695715200-1695747600@hubbard.nbed.ca
SUMMARY:Grade 3 Soc Hop
DESCRIPTION:
URL:https://hubbard.nbed.ca/calendar/grade-3-soc-hop/
CATEGORIES:Current Students,Extracurricular
END:VEVENT
BEGIN:VEVENT
DTSTART;TZID=America/Moncton:20230925T080000
DTEND;TZID=America/Moncton:20230925T133000
DTSTAMP:20260419T120224
CREATED:20230920T152727Z
LAST-MODIFIED:20230920T152728Z
UID:10000217-1695628800-1695648600@hubbard.nbed.ca
SUMMARY:Grade 3 Apple Picking
DESCRIPTION:
URL:https://hubbard.nbed.ca/calendar/grade-3-apple-picking/
END:VEVENT
BEGIN:VEVENT
DTSTART;TZID=America/Moncton:20230922T080000
DTEND;TZID=America/Moncton:20230922T170000
DTSTAMP:20260419T120224
CREATED:20230906T141540Z
LAST-MODIFIED:20230906T141919Z
UID:10000176-1695369600-1695402000@hubbard.nbed.ca
SUMMARY:No School for Students - Positive Learning Environment Day
DESCRIPTION:
URL:https://hubbard.nbed.ca/calendar/no-school-for-students-positive-learning-environment-day/
CATEGORIES:Academics,Current Students
END:VEVENT
BEGIN:VEVENT
DTSTART;TZID=America/Moncton:20230921T080000
DTEND;TZID=America/Moncton:20230921T170000
DTSTAMP:20260419T120224
CREATED:20230915T111438Z
LAST-MODIFIED:20230915T111438Z
UID:10000202-1695283200-1695315600@hubbard.nbed.ca
SUMMARY:School Colours Day
DESCRIPTION:Red\, yellow\, blue
URL:https://hubbard.nbed.ca/calendar/school-colours-day/
END:VEVENT
BEGIN:VEVENT
DTSTART;TZID=America/Moncton:20230905T081500
DTEND;TZID=America/Moncton:20230905T163000
DTSTAMP:20260419T120224
CREATED:20230616T121516Z
LAST-MODIFIED:20230620T120010Z
UID:10000149-1693901700-1693931400@hubbard.nbed.ca
SUMMARY:First Day of Classes
DESCRIPTION:
URL:https://hubbard.nbed.ca/calendar/first-day-of-classes/
CATEGORIES:Current Students
END:VEVENT
BEGIN:VEVENT
DTSTART;TZID=America/Moncton:20230904T000000
DTEND;TZID=America/Moncton:20230904T235900
DTSTAMP:20260419T120224
CREATED:20230616T121427Z
LAST-MODIFIED:20230621T135316Z
UID:10000148-1693785600-1693871940@hubbard.nbed.ca
SUMMARY:No School - Labour Day
DESCRIPTION:
URL:https://hubbard.nbed.ca/calendar/labour-day-2/
CATEGORIES:Current Students
END:VEVENT
BEGIN:VEVENT
DTSTART;TZID=America/Moncton:20230831T180000
DTEND;TZID=America/Moncton:20230831T193000
DTSTAMP:20260419T120224
CREATED:20230629T144943Z
LAST-MODIFIED:20230825T172849Z
UID:10000175-1693504800-1693510200@hubbard.nbed.ca
SUMMARY:Meet The Teacher Night
DESCRIPTION:
URL:https://hubbard.nbed.ca/calendar/meet-the-teacher-night/
CATEGORIES:Current Students,Extracurricular,Food
END:VEVENT
BEGIN:VEVENT
DTSTART;TZID=America/Moncton:20230829T081500
DTEND;TZID=America/Moncton:20230829T163000
DTSTAMP:20260419T120224
CREATED:20230616T121109Z
LAST-MODIFIED:20230626T184358Z
UID:10000147-1693296900-1693326600@hubbard.nbed.ca
SUMMARY:NBTA Council Day (School/District Based)
DESCRIPTION:Teachers and administrators ONLY.
URL:https://hubbard.nbed.ca/calendar/council-day/
CATEGORIES:Current Students
END:VEVENT
BEGIN:VEVENT
DTSTART;TZID=America/Moncton:20230623T000000
DTEND;TZID=America/Moncton:20230623T235959
DTSTAMP:20260419T120224
CREATED:20220502T161804Z
LAST-MODIFIED:20230504T140006Z
UID:10000114-1687478400-1687564799@hubbard.nbed.ca
SUMMARY:Last Day of Classes
DESCRIPTION:
URL:https://hubbard.nbed.ca/calendar/last-day-of-classes/
CATEGORIES:Academics,Current Students
END:VEVENT
BEGIN:VEVENT
DTSTART;TZID=America/Moncton:20230622T123000
DTEND;TZID=America/Moncton:20230622T140000
DTSTAMP:20260419T120224
CREATED:20230503T115243Z
LAST-MODIFIED:20230613T143841Z
UID:10000133-1687437000-1687442400@hubbard.nbed.ca
SUMMARY:Moved Hubbard Family Picnic
DESCRIPTION:Please bring a lunch for you and your family and you may also want to bring a blanket to sit on. \n\n\n\nIf you decide to take your child with you on that day\, please notify their homeroom teacher before you leave. \n\n\n\nWe are looking forward to seeing all of you.
URL:https://hubbard.nbed.ca/calendar/hubbard-family-picnic/
CATEGORIES:Current Students,Extracurricular,Food
END:VEVENT
BEGIN:VEVENT
DTSTART;TZID=America/Moncton:20230621T104500
DTEND;TZID=America/Moncton:20230621T124500
DTSTAMP:20260419T120224
CREATED:20230503T115327Z
LAST-MODIFIED:20230523T130954Z
UID:10000134-1687344300-1687351500@hubbard.nbed.ca
SUMMARY:Grade 5 Closing Ceremony
DESCRIPTION:
URL:https://hubbard.nbed.ca/calendar/grade-5-closing-ceremony/
CATEGORIES:Current Students,Extracurricular,Transportation
END:VEVENT
BEGIN:VEVENT
DTSTART;TZID=America/Moncton:20230620T082500
DTEND;TZID=America/Moncton:20230620T151000
DTSTAMP:20260419T120224
CREATED:20230529T110546Z
LAST-MODIFIED:20230609T162223Z
UID:10000141-1687249500-1687273800@hubbard.nbed.ca
SUMMARY:Grade 3 Fun Day
DESCRIPTION:
URL:https://hubbard.nbed.ca/calendar/team-fun-day/
CATEGORIES:Current Students,Extracurricular
END:VEVENT
BEGIN:VEVENT
DTSTART;TZID=America/Moncton:20230619T082500
DTEND;TZID=America/Moncton:20230619T134000
DTSTAMP:20260419T120224
CREATED:20230613T184949Z
LAST-MODIFIED:20230613T184950Z
UID:10000146-1687163100-1687182000@hubbard.nbed.ca
SUMMARY:Grade 4 End of Year Field Trip
DESCRIPTION:
URL:https://hubbard.nbed.ca/calendar/grade-4-end-of-year-field-trip/
CATEGORIES:Current Students,Extracurricular,Transportation
END:VEVENT
BEGIN:VEVENT
DTSTART;TZID=America/Moncton:20230619T080000
DTEND;TZID=America/Moncton:20230622T170000
DTSTAMP:20260419T120224
CREATED:20230609T162625Z
LAST-MODIFIED:20230609T162626Z
UID:10000145-1687161600-1687453200@hubbard.nbed.ca
SUMMARY:No Hot Lunch Available This Week
DESCRIPTION:
URL:https://hubbard.nbed.ca/calendar/no-hot-lunch-available-this-week/
CATEGORIES:Current Students,Food
END:VEVENT
BEGIN:VEVENT
DTSTART;TZID=America/Moncton:20230614T084500
DTEND;TZID=America/Moncton:20230614T150000
DTSTAMP:20260419T120224
CREATED:20230503T115157Z
LAST-MODIFIED:20230504T135943Z
UID:10000132-1686732300-1686754800@hubbard.nbed.ca
SUMMARY:Grade 5 Year End Field Trip
DESCRIPTION:
URL:https://hubbard.nbed.ca/calendar/grade-5-year-end-field-trip-2/
CATEGORIES:Current Students,Extracurricular,Transportation
END:VEVENT
BEGIN:VEVENT
DTSTART;TZID=America/Moncton:20230613T102000
DTEND;TZID=America/Moncton:20230613T224000
DTSTAMP:20260419T120224
CREATED:20230609T161706Z
LAST-MODIFIED:20230609T161707Z
UID:10000144-1686651600-1686696000@hubbard.nbed.ca
SUMMARY:Book Sale
DESCRIPTION:Students will have the opportunity to purchase a book for .50 cents to support classroom libraries.
URL:https://hubbard.nbed.ca/calendar/book-sale/
CATEGORIES:Academics,Current Students
END:VEVENT
BEGIN:VEVENT
DTSTART;TZID=America/Moncton:20230613T080000
DTEND;TZID=America/Moncton:20230613T170000
DTSTAMP:20260419T120224
CREATED:20230403T114845Z
LAST-MODIFIED:20230503T122211Z
UID:10000124-1686643200-1686675600@hubbard.nbed.ca
SUMMARY:Mrs. Frost class to Fay Tidd Public Library
DESCRIPTION:
URL:https://hubbard.nbed.ca/calendar/mrs-frost-class-to-fay-tidd-public-library-3/
CATEGORIES:Academics,Current Students,Extracurricular
END:VEVENT
BEGIN:VEVENT
DTSTART;TZID=America/Moncton:20230612T082500
DTEND;TZID=America/Moncton:20230612T150000
DTSTAMP:20260419T120224
CREATED:20230609T161511Z
LAST-MODIFIED:20230609T161512Z
UID:10000143-1686558300-1686582000@hubbard.nbed.ca
SUMMARY:Hubbard Reads Event
DESCRIPTION:Students will be picking a book to bring home for free.
URL:https://hubbard.nbed.ca/calendar/hubbard-reads-event/
CATEGORIES:Academics,Current Students
END:VEVENT
BEGIN:VEVENT
DTSTART;TZID=America/Moncton:20230609T090000
DTEND;TZID=America/Moncton:20230609T100000
DTSTAMP:20260419T120224
CREATED:20230529T110500Z
LAST-MODIFIED:20230529T110501Z
UID:10000140-1686301200-1686304800@hubbard.nbed.ca
SUMMARY:Assiniboine Grade 2 Student Tour
DESCRIPTION:
URL:https://hubbard.nbed.ca/calendar/assiniboine-grade-2-student-tour/
END:VEVENT
BEGIN:VEVENT
DTSTART;TZID=America/Moncton:20230608T080000
DTEND;TZID=America/Moncton:20230608T170000
DTSTAMP:20260419T120224
CREATED:20230330T175145Z
LAST-MODIFIED:20230330T175342Z
UID:10000119-1686211200-1686243600@hubbard.nbed.ca
SUMMARY:Young Entrepreneur Showcase
DESCRIPTION:
URL:https://hubbard.nbed.ca/calendar/young-entrepreneur-showcase/
CATEGORIES:Academics,Current Students
END:VEVENT
BEGIN:VEVENT
DTSTART;TZID=America/Moncton:20230606T131500
DTEND;TZID=America/Moncton:20230606T143000
DTSTAMP:20260419T120224
CREATED:20230523T132132Z
LAST-MODIFIED:20230523T132200Z
UID:10000139-1686057300-1686061800@hubbard.nbed.ca
SUMMARY:Mrs. Bowie's Class walk to Fay Tidd Library
DESCRIPTION:
URL:https://hubbard.nbed.ca/calendar/mrs-bowies-class-walk-to-fay-tidd-library/
CATEGORIES:Academics,Current Students
END:VEVENT
BEGIN:VEVENT
DTSTART;TZID=America/Moncton:20230606T130000
DTEND;TZID=America/Moncton:20230606T140000
DTSTAMP:20260419T120224
CREATED:20230503T115029Z
LAST-MODIFIED:20230503T122234Z
UID:10000131-1686056400-1686060000@hubbard.nbed.ca
SUMMARY:Grade 5 Middle School Tours
DESCRIPTION:
URL:https://hubbard.nbed.ca/calendar/grade-5-middle-school-tours/
CATEGORIES:Academics,Current Students,Extracurricular,Post-secondary
END:VEVENT
BEGIN:VEVENT
DTSTART;TZID=America/Moncton:20230531T080000
DTEND;TZID=America/Moncton:20230531T170000
DTSTAMP:20260419T120224
CREATED:20230330T172120Z
LAST-MODIFIED:20230330T172121Z
UID:10000118-1685520000-1685552400@hubbard.nbed.ca
SUMMARY:District Track & Field
DESCRIPTION:
URL:https://hubbard.nbed.ca/calendar/district-track-field/
CATEGORIES:Athletics,Current Students
END:VEVENT
BEGIN:VEVENT
DTSTART;TZID=America/Moncton:20230530T080000
DTEND;TZID=America/Moncton:20230530T170000
DTSTAMP:20260419T120224
CREATED:20230529T110849Z
LAST-MODIFIED:20230609T162302Z
UID:10000142-1685433600-1685466000@hubbard.nbed.ca
SUMMARY:Mrs. Frost class to Fay Tidd Library
DESCRIPTION:
URL:https://hubbard.nbed.ca/calendar/mrs-frost-class-to-fay-tidd-library/
CATEGORIES:Academics,Current Students
END:VEVENT
BEGIN:VEVENT
DTSTART;TZID=America/Moncton:20230530T080000
DTEND;TZID=America/Moncton:20230530T170000
DTSTAMP:20260419T120224
CREATED:20230403T114818Z
LAST-MODIFIED:20230503T122354Z
UID:10000123-1685433600-1685466000@hubbard.nbed.ca
SUMMARY:Mrs. Frost class to Fay Tidd Public Library
DESCRIPTION:
URL:https://hubbard.nbed.ca/calendar/mrs-frost-class-to-fay-tidd-public-library-2/
CATEGORIES:Academics,Current Students,Extracurricular
END:VEVENT
BEGIN:VEVENT
DTSTART;TZID=America/Moncton:20230522T000000
DTEND;TZID=America/Moncton:20230522T235959
DTSTAMP:20260419T120224
CREATED:20220502T161734Z
LAST-MODIFIED:20230503T122530Z
UID:10000113-1684713600-1684799999@hubbard.nbed.ca
SUMMARY:Victoria Day
DESCRIPTION:
URL:https://hubbard.nbed.ca/calendar/victoria-day/
CATEGORIES:Current Students
END:VEVENT
END:VCALENDAR